BEGIN:VCALENDAR
VERSION:2.0
PRODID:-//Eventin//Event Calendar//EN
CALSCALE:GREGORIAN
METHOD:PUBLISH
BEGIN:VEVENT
UID:84c834ccf2dee672e2a2629ad0c72482@journeybeyondsound.com
SUMMARY:Coastal Reset: A Santa Cruz Hammock Sound Journey
DESCRIPTION:REGISTRATION IS NOW OPEN - Space is Limited with a Reserved Ham
 mock Spots Available:Reserve Here\n🌊Coastal Reset\n🌸 Santa Cruz📅 T
 hursday\, May 7\, 2026🕖 7:00–8:15 pm (doors 6:30 • elixirs until 9)
 📍 Roxa Hammock Cafe\, Santa Cruz\n✨ Journey Beyond Sound with special 
 guest Sanaz Sounds invites you into a midweek reset—an evening to unwind\
 , soften\, and reconnect.\n🌊 Set in a relaxed coastal atmosphere at Roxa
  Hammock Cafe\, this immersive sound journey helps settle the mind and ease
  the body.\n🎶 Rest in a hammock\, on a couch\, or on your mat as live go
 ngs\, crystal and Tibetan bowls\, flutes\, chimes\, and intuitive sound gui
 de you into deep relaxation. This will support clarity\, reduced stress\, a
 nd many chill vibes that are good for the soul.\n🍵 Roxa\, the first hamm
 ock cafe in the U.S.\, offers a unique lounge setting with handcrafted non-
 alcoholic elixirs available to complement your experience.\n🧘 Spaces (li
 mited):Hammock $50 • Couch $45 • Floor $45\n🧺 Dress comfortably and 
 bring what helps you relax (blanket\, shawl\, pillow\, mat).👣 Shoes off 
 at the door • 🚫 No outside beverages\n⚠️ Cancellations up to 5 day
 s prior. Transfers allowed within that window.\n👉 For more info and to r
 eserve your spot\, click here. Spaces are limited—reserve now before it s
 ells out.\n\n \nReserve Here
LOCATION:Roxa Hammock Cafe\, On abbot square in breezeway\, Cooper Street\,
  Santa Cruz\, CA\, USA
DTSTAMP:20260425T032019Z
DTSTART:20260508T020000Z
DTEND:20260508T031500Z
END:VEVENT
END:VCALENDAR
